BEGIN:VCALENDAR
VERSION:2.0
PRODID:-//SportPlan//Event Calendar//EN
CALSCALE:GREGORIAN
BEGIN:VEVENT
UID:f7590ea8-50b1-427d-9570-acc5c7ec75de@sportplan.local
DTSTAMP:20260425T023103Z
DTSTART;VALUE=DATE:20260627
DTEND;VALUE=DATE:20260628
SUMMARY:YOTHIN RUN 2026 : LEAN FORWARD
DESCRIPTION:Official Thai.Run registration page for YOTHIN RUN 2026 : LEAN FORWARD in Bangkok.
LOCATION:Bangkok\, Bangkok
URL:https://sportplan.vercel.app/no/events/yothin-run-2026-lean-forward-bangkok-2026-06-27
END:VEVENT
END:VCALENDAR
