BEGIN:VCALENDAR
VERSION:2.0
PRODID:-//SportPlan//Event Calendar//EN
CALSCALE:GREGORIAN
BEGIN:VEVENT
UID:44f867dc-fda5-474d-b239-e570a68d3e42@sportplan.local
DTSTAMP:20260424T201109Z
DTSTART;VALUE=DATE:20260301
DTEND;VALUE=DATE:20260302
SUMMARY:XVIII Medio Maratón Coruña21 2026
DESCRIPTION:XVIII Medio Maratón Coruña21 2026 is the official Coruña21 half marathon in A Coruña\, Spain on 1 March 2026. The city race site is the participant-facing source for event information\, city-race program context\, and runner logistics.
LOCATION:A Coruña
URL:https://sportplan.vercel.app/no/events/xviii-medio-maraton-coruna21-2026
END:VEVENT
END:VCALENDAR
