BEGIN:VCALENDAR
VERSION:2.0
PRODID:-//SportPlan//Event Calendar//EN
CALSCALE:GREGORIAN
BEGIN:VEVENT
UID:ad83c9d3-f040-4701-87ed-93ef58f4c4a5@sportplan.local
DTSTAMP:20260424T231325Z
DTSTART;VALUE=DATE:20260531
DTEND;VALUE=DATE:20260601
SUMMARY:XI Triatlo de Altura
DESCRIPTION:XI Triatlo de Altura is an official Federação de Triatlo de Portugal event in Altura\, Portugal on 31 May 2026. The official event page publishes the regulation and course documents for the 2026 edition.
LOCATION:Altura\, Castro Marim\, Faro\, Portugal
URL:https://sportplan.vercel.app/no/events/xi-triatlo-de-altura-altura-castro-marim-faro-portugal-2026-05-31
END:VEVENT
END:VCALENDAR
