BEGIN:VCALENDAR
VERSION:2.0
PRODID:-//SportPlan//Event Calendar//EN
CALSCALE:GREGORIAN
BEGIN:VEVENT
UID:62706544-e2c3-4bb9-b910-0cd465608eaf@sportplan.local
DTSTAMP:20260425T004542Z
DTSTART;VALUE=DATE:20260704
DTEND;VALUE=DATE:20260705
SUMMARY:X Duatlo Cross da Amadora
DESCRIPTION:Official Federação de Triatlo de Portugal event page for X Duatlo Cross da Amadora. The federation calendar publishes the 2026-07-04 event in Amadora\, supporting conservative inclusion as an official amateur-enterable duathlon entry.
LOCATION:Amadora\, Lisboa\, Portugal
URL:https://sportplan.vercel.app/no/events/x-duatlo-cross-da-amadora-amadora-lisboa-portugal-2026-07-04
END:VEVENT
END:VCALENDAR
