BEGIN:VCALENDAR
VERSION:2.0
PRODID:-//SportPlan//Event Calendar//EN
CALSCALE:GREGORIAN
BEGIN:VEVENT
UID:9d1dcf92-6acd-414b-bd82-75bebb03a96a@sportplan.local
DTSTAMP:20260424T212751Z
DTSTART;VALUE=DATE:20261025
DTEND;VALUE=DATE:20261026
SUMMARY:Vi Carrera #Hazvisible22q 2026
DESCRIPTION:
LOCATION:Madrid
URL:https://sportplan.vercel.app/no/events/vi-carrera-hazvisible22q-2026
END:VEVENT
END:VCALENDAR
