BEGIN:VCALENDAR
VERSION:2.0
PRODID:-//SportPlan//Event Calendar//EN
CALSCALE:GREGORIAN
BEGIN:VEVENT
UID:2039c69b-7c8f-4af8-9e1b-75e486f56d5b@sportplan.local
DTSTAMP:20260424T233954Z
DTSTART;VALUE=DATE:20260927
DTEND;VALUE=DATE:20260928
SUMMARY:Veszprémi Terepduatlon Fesztivál
DESCRIPTION:The official Magyar Triatlon Szövetség 2026 domestic race calendar lists Veszprémi Terepduatlon Fesztivál on 27 September 2026 in Veszprém. The federation calendar is the current official source for this off-road duathlon festival entry.
LOCATION:Veszprém
URL:https://sportplan.vercel.app/no/events/veszpremi-terepduatlon-fesztival-veszprem-2026-09-27
END:VEVENT
END:VCALENDAR
