BEGIN:VCALENDAR
VERSION:2.0
PRODID:-//SportPlan//Event Calendar//EN
CALSCALE:GREGORIAN
BEGIN:VEVENT
UID:98737bbc-e7d8-4312-9c79-807cbdead96a@sportplan.local
DTSTAMP:20260424T231442Z
DTSTART;VALUE=DATE:20260913
DTEND;VALUE=DATE:20260914
SUMMARY:VESC-PE Triatlon
DESCRIPTION:The official Magyar Triatlon Szövetség 2026 domestic race calendar lists VESC-PE Triatlon on 13 September 2026 in Veszprém. The federation calendar itself is the current official source\; no separate organizer link was captured on the calendar row in this run.
LOCATION:Veszprém
URL:https://sportplan.vercel.app/no/events/vesc-pe-triatlon-veszprem-2026-09-13
END:VEVENT
END:VCALENDAR
