BEGIN:VCALENDAR
VERSION:2.0
PRODID:-//SportPlan//Event Calendar//EN
CALSCALE:GREGORIAN
BEGIN:VEVENT
UID:00e3bf73-d3db-494d-ab97-978c76438af4@sportplan.local
DTSTAMP:20260424T230216Z
DTSTART;VALUE=DATE:20260301
DTEND;VALUE=DATE:20260302
SUMMARY:UTMB Mallorca 100K
DESCRIPTION:UTMB Mallorca 100K 2026 is the official 100 km race entry within the Mallorca by UTMB event program in Spain on 1 March 2026. The official Mallorca by UTMB site is the participant-facing source for course details\, race-week logistics\, and registration guidance.
LOCATION:Mallorca\, Baleares\, Islas Baleares
URL:https://sportplan.vercel.app/no/events/utmb-mallorca-100k-mallorca-2026-03-01-100k
END:VEVENT
END:VCALENDAR
