BEGIN:VCALENDAR
VERSION:2.0
PRODID:-//SportPlan//Event Calendar//EN
CALSCALE:GREGORIAN
BEGIN:VEVENT
UID:55acb989-ebf8-4c1c-a617-f9b4ce856518@sportplan.local
DTSTAMP:20260424T230222Z
DTSTART;VALUE=DATE:20260425
DTEND;VALUE=DATE:20260426
SUMMARY:Ultra Trail Picos de Europa 2026
DESCRIPTION:Official Critical Sports event page for Ultra Trail Picos de Europa 2026 in Cillorigo de Liébana\, Cantabria\, with 51 km\, 31 km\, and 21 km race or hike formats scheduled for 25 April 2026.
LOCATION:Cillorigo de Liébana
URL:https://sportplan.vercel.app/no/events/ultra-trail-picos-de-europa-2026
END:VEVENT
END:VCALENDAR
