BEGIN:VCALENDAR
VERSION:2.0
PRODID:-//SportPlan//Event Calendar//EN
CALSCALE:GREGORIAN
BEGIN:VEVENT
UID:e1be9751-ffe0-49cd-8536-60082d8d45c0@sportplan.local
DTSTAMP:20260424T203350Z
DTSTART;VALUE=DATE:20260228
DTEND;VALUE=DATE:20260301
SUMMARY:Ultra Trail Côte d'Azur 110K 2026
DESCRIPTION:Ultra Trail Côte d'Azur 110K 2026 uses utcazur.com as the official participant-facing website for the long-distance trail race on the French Riviera. The organizer domain is the canonical source for course details\, participant guidance\, and registration updates.
LOCATION:Roquebrune-Cap-Martin\, Alpes-Maritimes
URL:https://sportplan.vercel.app/no/events/ultra-trail-c-te-d-azur-110k-2026-roquebrune-cap-martin-2026-02-28
END:VEVENT
END:VCALENDAR
