BEGIN:VCALENDAR
VERSION:2.0
PRODID:-//SportPlan//Event Calendar//EN
CALSCALE:GREGORIAN
BEGIN:VEVENT
UID:065a96dd-a52b-427f-a341-e55347bd89dd@sportplan.local
DTSTAMP:20260425T041126Z
DTSTART;VALUE=DATE:20260829
DTEND;VALUE=DATE:20260831
SUMMARY:Trofeo Pinares 2026
DESCRIPTION:El Trofeo Pinares aparece en el calendario oficial 2026 de la FEDO para el 29-30 de agosto en Navaleno (Soria)\, dentro de la temporada nacional de orientación a pie. La prueba se integra en la estructura oficial federativa y ofrece un fin de semana de competición en terreno forestal característico de Pinares.
LOCATION:Navaleno
URL:https://sportplan.vercel.app/no/events/trofeo-pinares-2026
END:VEVENT
END:VCALENDAR
