BEGIN:VCALENDAR
VERSION:2.0
PRODID:-//SportPlan//Event Calendar//EN
CALSCALE:GREGORIAN
BEGIN:VEVENT
UID:f05f0ae5-2952-499a-8084-bc1403d9fb61@sportplan.local
DTSTAMP:20260424T213245Z
DTSTART;VALUE=DATE:20260502
DTEND;VALUE=DATE:20260503
SUMMARY:Triathlon de Lacanau (33)
DESCRIPTION:Official FFTRI/T2Area fiche lists Triathlon de Lacanau (33) in LACANAU on 2026-05-02 with Aquathlon Jeunes 1\, Aquathlon Jeunes 2\, S\, L formats.
LOCATION:LACANAU\, Nouvelle-Aquitaine
URL:https://sportplan.vercel.app/no/events/triathlon-de-lacanau-33-lacanau-2026-05-02
END:VEVENT
END:VCALENDAR
