BEGIN:VCALENDAR
VERSION:2.0
PRODID:-//SportPlan//Event Calendar//EN
CALSCALE:GREGORIAN
BEGIN:VEVENT
UID:ca5d2192-7559-43bf-af1a-9cae6f41f68d@sportplan.local
DTSTAMP:20260424T201134Z
DTSTART;VALUE=DATE:20260110
DTEND;VALUE=DATE:20260111
SUMMARY:Trail Zoquetes
DESCRIPTION:Official Trail Zoquetes page for the amateur-enterable Alcorisa trail-running weekend on 2026-01-10 and 2026-01-11. The organizer-owned site publishes the event branding\, registration link\, and the trail plus senderistas program for the recurring Trail Zoquetes event in Teruel province.
LOCATION:Alcorisa\, Teruel
URL:https://sportplan.vercel.app/no/events/trail-zoquetes-alcorisa-2026-01-10
END:VEVENT
END:VCALENDAR
