BEGIN:VCALENDAR
VERSION:2.0
PRODID:-//SportPlan//Event Calendar//EN
CALSCALE:GREGORIAN
BEGIN:VEVENT
UID:49d611cb-7104-4a7d-b2d6-0199f7d537b2@sportplan.local
DTSTAMP:20260424T231156Z
DTSTART;VALUE=DATE:20260905
DTEND;VALUE=DATE:20260906
SUMMARY:Trail No Hay Pitera Longás. Subida al Cielo de las Cinco Villas 22K
DESCRIPTION:Trail No Hay Pitera Longás. Subida al Cielo de las Cinco Villas 22K se celebrará el 5 de septiembre de 2026 en Longás\, Zaragoza\, Aragón. Es una buena cita para participantes y acompañantes que buscan un ambiente activo y bien organizado. La distancia anunciada es de 22 km.
LOCATION:Longás\, Zaragoza\, Aragón
URL:https://sportplan.vercel.app/no/events/trail-no-hay-pitera-longas-subida-al-cielo-de-las-cinco-villas-22k-longas-2026-0
END:VEVENT
END:VCALENDAR
