BEGIN:VCALENDAR
VERSION:2.0
PRODID:-//SportPlan//Event Calendar//EN
CALSCALE:GREGORIAN
BEGIN:VEVENT
UID:933f931f-5291-459c-bfaa-7bc2e6c26235@sportplan.local
DTSTAMP:20260425T003308Z
DTSTART;VALUE=DATE:20260822
DTEND;VALUE=DATE:20260823
SUMMARY:Trail Naranjo de Bulnes
DESCRIPTION:Trail Naranjo de Bulnes se celebrará el 22 de agosto de 2026 en Cabrales\, Picu Urriellu. Es una cita ideal para quienes buscan un reto bien organizado en ES y un ambiente motivador durante toda la jornada. Con una distancia aproximada de 32 km\, ofrece una experiencia deportiva atractiva tanto para participantes habituales como para quienes quieren marcarse un nuevo objetivo.
LOCATION:Cabrales\, Picu Urriellu
URL:https://sportplan.vercel.app/no/events/trail-naranjo-de-bulnes-cabrales-2026-08-22
END:VEVENT
END:VCALENDAR
