BEGIN:VCALENDAR
VERSION:2.0
PRODID:-//SportPlan//Event Calendar//EN
CALSCALE:GREGORIAN
BEGIN:VEVENT
UID:bf7646ac-c88b-43f7-985a-893588634176@sportplan.local
DTSTAMP:20260425T004704Z
DTSTART;VALUE=DATE:20260822
DTEND;VALUE=DATE:20260824
SUMMARY:Townsville Triathlon and Multisport Festival
DESCRIPTION:AusTriathlon lists a two-day Townsville festival with triathlon\, duathlon and aquathlon categories across kids\, enticer\, sprint and standard formats. The page links to the event's official festival site.
LOCATION:The Strand\, North Ward
URL:https://sportplan.vercel.app/no/events/townsville-triathlon-and-multisport-festival-the-strand-north-ward-2026-08-22
END:VEVENT
END:VCALENDAR
