BEGIN:VCALENDAR
VERSION:2.0
PRODID:-//SportPlan//Event Calendar//EN
CALSCALE:GREGORIAN
BEGIN:VEVENT
UID:239dc525-dc9b-4575-8c6e-8edc36d5986c@sportplan.local
DTSTAMP:20260425T003204Z
DTSTART;VALUE=DATE:20260524
DTEND;VALUE=DATE:20260525
SUMMARY:The Championship
DESCRIPTION:discovered via official Challenge Family race directory/page\; selected after queue count review to expand low-coverage worldwide distribution beyond already seeded countries
LOCATION:Šamorín\, Slovakia
URL:https://sportplan.vercel.app/no/events/the-championship-2026-05-24
END:VEVENT
END:VCALENDAR
