BEGIN:VCALENDAR
VERSION:2.0
PRODID:-//SportPlan//Event Calendar//EN
CALSCALE:GREGORIAN
BEGIN:VEVENT
UID:57d1a95f-4c95-4c29-8b21-2fce9046b045@sportplan.local
DTSTAMP:20260424T230018Z
DTSTART;VALUE=DATE:20260502
DTEND;VALUE=DATE:20260503
SUMMARY:Thames Path 100
DESCRIPTION:Thames Path 100 is Centurion Running's 100-mile point-to-point ultra from Richmond to Oxford on 2 May 2026.
LOCATION:Richmond
URL:https://sportplan.vercel.app/no/events/thames-path-100-richmond-2026-05-02
END:VEVENT
END:VCALENDAR
