BEGIN:VCALENDAR
VERSION:2.0
PRODID:-//SportPlan//Event Calendar//EN
CALSCALE:GREGORIAN
BEGIN:VEVENT
UID:8bf798f6-c564-46e0-9238-32bf6ec67029@sportplan.local
DTSTAMP:20260425T003731Z
DTSTART;VALUE=DATE:20260920
DTEND;VALUE=DATE:20260921
SUMMARY:Test Bear Ultra
DESCRIPTION:
LOCATION:Eslovaquia
URL:https://sportplan.vercel.app/no/events/test-bear-ultra-eslovaquia-2026-09-20-118k
END:VEVENT
END:VCALENDAR
