BEGIN:VCALENDAR
VERSION:2.0
PRODID:-//SportPlan//Event Calendar//EN
CALSCALE:GREGORIAN
BEGIN:VEVENT
UID:eca33e50-4084-4c23-9f70-63f8bc576127@sportplan.local
DTSTAMP:20260424T231442Z
DTSTART;VALUE=DATE:20260822
DTEND;VALUE=DATE:20260823
SUMMARY:Terepduatlon Csesztve
DESCRIPTION:The official Magyar Triatlon Szövetség 2026 race calendar lists Terepduatlon Csesztve on 22 August 2026. The federation calendar is the currently verified official source for this off-road duathlon event.
LOCATION:Csesztve\, Nógrád\, Hungary
URL:https://sportplan.vercel.app/no/events/terepduatlon-csesztve-2026-08-22
END:VEVENT
END:VCALENDAR
