BEGIN:VCALENDAR
VERSION:2.0
PRODID:-//SportPlan//Event Calendar//EN
CALSCALE:GREGORIAN
BEGIN:VEVENT
UID:04402c67-5969-428c-b844-71cd858ee0bc@sportplan.local
DTSTAMP:20260425T004422Z
DTSTART;VALUE=DATE:20260725
DTEND;VALUE=DATE:20260726
SUMMARY:Telekom Night Run Donovaly 2026
DESCRIPTION:Telekom Night Run Donovaly 2026 is an official amateur evening running event in Donovaly\, Slovakia on 25 July 2026. The official organizer page describes open 5 km and 10 km courses through the PARK SNOW area and under Nová hoľa\, plus accompanying children and Nordic walking program elements.
LOCATION:Donovaly
URL:https://sportplan.vercel.app/no/events/telekom-night-run-donovaly-2026-donovaly-2026-07-25
END:VEVENT
END:VCALENDAR
