BEGIN:VCALENDAR
VERSION:2.0
PRODID:-//SportPlan//Event Calendar//EN
CALSCALE:GREGORIAN
BEGIN:VEVENT
UID:c7f5c993-6d44-4e49-9233-777fe11df06a@sportplan.local
DTSTAMP:20260424T230829Z
DTSTART;VALUE=DATE:20260829
DTEND;VALUE=DATE:20260830
SUMMARY:TCS Sydney Mini Marathon 2026
DESCRIPTION:The official TCS Sydney Marathon mini-marathon page says this is Sydney's 5 km event for Saturday 29 August 2026\, participant-enterable for walkers and runners and finishing at the Sydney Opera House after the Harbour Bridge crossing.
LOCATION:Macquarie Street to Sydney Opera House
URL:https://sportplan.vercel.app/no/events/tcs-sydney-mini-marathon-2026-sydney-2026-08-29
END:VEVENT
END:VCALENDAR
