BEGIN:VCALENDAR
VERSION:2.0
PRODID:-//SportPlan//Event Calendar//EN
CALSCALE:GREGORIAN
BEGIN:VEVENT
UID:b51b2859-93cf-4f3f-8d0a-dbcbdba98036@sportplan.local
DTSTAMP:20260424T230341Z
DTSTART;VALUE=DATE:20260426
DTEND;VALUE=DATE:20260427
SUMMARY:Taunton Flyer
DESCRIPTION:Official Sportiva Events page lists the Taunton Flyer sportive with Wellington (101 miles)\, Dakota (63 miles)\, and Spitfire (37 miles) route options.
LOCATION:Westonzoyland
URL:https://sportplan.vercel.app/no/events/taunton-flyer-westonzoyland-2026-04-26
END:VEVENT
END:VCALENDAR
