BEGIN:VCALENDAR
VERSION:2.0
PRODID:-//SportPlan//Event Calendar//EN
CALSCALE:GREGORIAN
BEGIN:VEVENT
UID:fd937a97-ab10-46e2-99a4-c0d9e924d776@sportplan.local
DTSTAMP:20260425T004006Z
DTSTART;VALUE=DATE:20260726
DTEND;VALUE=DATE:20260727
SUMMARY:Tatra Skymarathon
DESCRIPTION:Tatra Skymarathon is part of the official Tatra Skymarathon festival in the heart of the Tatras. The organizer site presents the event weekend as a mountain-running festival in the Podhale and Orava regions and lists Tatra Skymarathon among the featured races on 24-25 July.
LOCATION:Kościelisko
URL:https://sportplan.vercel.app/no/events/tatra-skymarathon-koscielisko-2026-07-26
END:VEVENT
END:VCALENDAR
