BEGIN:VCALENDAR
VERSION:2.0
PRODID:-//SportPlan//Event Calendar//EN
CALSCALE:GREGORIAN
BEGIN:VEVENT
UID:d60025cc-d880-4562-87e0-e7b10fc7283a@sportplan.local
DTSTAMP:20260424T231012Z
DTSTART;VALUE=DATE:20260608
DTEND;VALUE=DATE:20260609
SUMMARY:Sri Chinmoy Half-Marathon\, 5 & 2 Miles
DESCRIPTION:Official Sri Chinmoy Canberra running page for the 8 June 2026 Lennox Gardens race day. The organizer-owned page presents the Half-Marathon\, 5 Mile\, and 2 Mile races around the Lennox Gardens lake loop in Canberra.
LOCATION:Lennox Gardens\, Canberra\, Australia
URL:https://sportplan.vercel.app/no/events/sri-chinmoy-half-marathon-5-and-2-miles-canberra-2026-06-08
END:VEVENT
END:VCALENDAR
