BEGIN:VCALENDAR
VERSION:2.0
PRODID:-//SportPlan//Event Calendar//EN
CALSCALE:GREGORIAN
BEGIN:VEVENT
UID:81c72a9b-2aec-479e-a4c0-30e2bce42147@sportplan.local
DTSTAMP:20260424T231024Z
DTSTART;VALUE=DATE:20260607
DTEND;VALUE=DATE:20260608
SUMMARY:Sri Chinmoy Albert Park Half Marathon\, 10km and 5km Run
DESCRIPTION:Official Sri Chinmoy Races Melbourne event page for the 7 June 2026 Albert Park race day. The organizer page confirms the Palms Lawn start area beside the athletics stadium at Albert Park\, Melbourne\, and publishes the half marathon\, 10 km\, and 5 km participant races on a closed lake circuit.
LOCATION:Albert Park\, Melbourne\, Australia
URL:https://sportplan.vercel.app/no/events/sri-chinmoy-albert-park-half-marathon-10km-and-5km-run-2026-06-07
END:VEVENT
END:VCALENDAR
