BEGIN:VCALENDAR
VERSION:2.0
PRODID:-//SportPlan//Event Calendar//EN
CALSCALE:GREGORIAN
BEGIN:VEVENT
UID:da630f2d-f81c-4356-801d-4f4a1a450f5e@sportplan.local
DTSTAMP:20260424T230753Z
DTSTART;VALUE=DATE:20260823
DTEND;VALUE=DATE:20260824
SUMMARY:Sprint Distance Triathlon Deinze
DESCRIPTION:Sprint Distance Triathlon Deinze is the Belgian sprint-distance triathlon championship hosted by Sportevents in Deinze on 23 August 2026. The official City Triathlon Deinze site provides participant-facing race information including check-in rules\, schedule information\, and Triathlon Vlaanderen race logistics.
LOCATION:Deinze\, East Flanders\, Belgium
URL:https://sportplan.vercel.app/no/events/sprint-distance-triathlon-deinze-2026-08-23
END:VEVENT
END:VCALENDAR
