BEGIN:VCALENDAR
VERSION:2.0
PRODID:-//SportPlan//Event Calendar//EN
CALSCALE:GREGORIAN
BEGIN:VEVENT
UID:430d7bf6-2ec0-45c5-9127-5abf0e8b764e@sportplan.local
DTSTAMP:20260425T004214Z
DTSTART;VALUE=DATE:20260801
DTEND;VALUE=DATE:20260802
SUMMARY:Slovakman KOLEČKO 2026
DESCRIPTION:Slovakman KOLEČKO 2026 is an amateur-enterable short-format triathlon race within the official Slovakman weekend in Piešťany. The official Slovakman propozície list Slovakman KOLEČKO among the 2026 distances\, show the venue as Piešťany\, the event weekend as 1.-2.8.2026\, and Triathlon kolečko presentation on 1.8.2026.
LOCATION:Piešťany\, Slovakia
URL:https://sportplan.vercel.app/no/events/slovakman-kolecko-2026-piestany-2026-08-01
END:VEVENT
END:VCALENDAR
