BEGIN:VCALENDAR
VERSION:2.0
PRODID:-//SportPlan//Event Calendar//EN
CALSCALE:GREGORIAN
BEGIN:VEVENT
UID:452f030c-2392-4c91-bbcd-9e2e6bbc3eef@sportplan.local
DTSTAMP:20260424T213747Z
DTSTART;VALUE=DATE:20260802
DTEND;VALUE=DATE:20260803
SUMMARY:Slovakman Aquatlon Piešťany 2026
DESCRIPTION:Official Slovak Triathlon Union 2026 calendar page 2 lists Slovakman Aquatlon Piešťany\, 2. ročník\, on 2 August 2026 in Piešťany as a Slovak youth and national aquathlon championship event.
LOCATION:Piešťany\, Slovakia
URL:https://sportplan.vercel.app/no/events/slovakman-aquatlon-piestany-2026-piestany-2026-08-02
END:VEVENT
END:VCALENDAR
