BEGIN:VCALENDAR
VERSION:2.0
PRODID:-//SportPlan//Event Calendar//EN
CALSCALE:GREGORIAN
BEGIN:VEVENT
UID:abf1c73f-9651-40b3-b09d-90bfc83cd1e0@sportplan.local
DTSTAMP:20260425T023307Z
DTSTART;VALUE=DATE:20260530
DTEND;VALUE=DATE:20260531
SUMMARY:Sam Roi Yot Run Fun Fest
DESCRIPTION:Official Thai.Run registration page for Sam Roi Yot Run Fun Fest.
LOCATION:Prachuap Khiri Khan\, Prachuap Khiri Khan
URL:https://sportplan.vercel.app/no/events/sam-roi-yot-run-fun-fest-prachuap-khiri-khan-2026-05-30
END:VEVENT
END:VCALENDAR
