BEGIN:VCALENDAR
VERSION:2.0
PRODID:-//SportPlan//Event Calendar//EN
CALSCALE:GREGORIAN
BEGIN:VEVENT
UID:c0e251f7-dab1-426f-b400-7c6f1f49a4df@sportplan.local
DTSTAMP:20260424T230325Z
DTSTART;VALUE=DATE:20261205
DTEND;VALUE=DATE:20261206
SUMMARY:Sagana Enduro
DESCRIPTION:The official Kenya Cycling Race Series event page lists Sagana Enduro for 5 December 2026 in Sagana\, Kenya as an amateur-enterable enduro mountain-bike race.
LOCATION:Sagana
URL:https://sportplan.vercel.app/no/events/sagana-enduro-sagana-2026-12-05
END:VEVENT
END:VCALENDAR
