BEGIN:VCALENDAR
VERSION:2.0
PRODID:-//SportPlan//Event Calendar//EN
CALSCALE:GREGORIAN
BEGIN:VEVENT
UID:e6edf677-049f-4987-b1c7-7172bae0083b@sportplan.local
DTSTAMP:20260424T231143Z
DTSTART;VALUE=DATE:20260426
DTEND;VALUE=DATE:20260427
SUMMARY:Runway Run - Western Sydney International Airport
DESCRIPTION:Runway Run is an official mass-participation runway running event at Western Sydney International Airport on 26 April 2026. The official event site publishes a community walk plus 4 km\, 7 km\, 14 km\, and half-marathon options on the airport runway.
LOCATION:Western Sydney International Airport
URL:https://sportplan.vercel.app/no/events/runway-run-western-sydney-international-airport-2026-04-26
END:VEVENT
END:VCALENDAR
