BEGIN:VCALENDAR
VERSION:2.0
PRODID:-//SportPlan//Event Calendar//EN
CALSCALE:GREGORIAN
BEGIN:VEVENT
UID:ba103a9d-5dc9-4af0-8f14-cfb61585ca7e@sportplan.local
DTSTAMP:20260425T023242Z
DTSTART;VALUE=DATE:20260801
DTEND;VALUE=DATE:20260802
SUMMARY:Run To School 8 / วิ่งไปโรงเรียน ปีที่ 8
DESCRIPTION:Official Thai.Run registration page for Run To School 8 / วิ่งไปโรงเรียน ปีที่ 8 in Bangkok.
LOCATION:Bangkok\, Bangkok
URL:https://sportplan.vercel.app/no/events/run-to-school-8-8-bangkok-2026-08-01
END:VEVENT
END:VCALENDAR
