BEGIN:VCALENDAR
VERSION:2.0
PRODID:-//SportPlan//Event Calendar//EN
CALSCALE:GREGORIAN
BEGIN:VEVENT
UID:82ec542d-6d73-4e93-9092-d1bf430939b9@sportplan.local
DTSTAMP:20260424T230205Z
DTSTART;VALUE=DATE:20260426
DTEND;VALUE=DATE:20260427
SUMMARY:Run The Tan 2026
DESCRIPTION:Official Run The Tan site lists Sunday 26 April 2026\, says registrations are open\, and describes a public fun run open to everyone on Melbourne's iconic Tan Track in support of mental health charities.
LOCATION:The Tan Track\, Melbourne
URL:https://sportplan.vercel.app/no/events/run-the-tan-2026-melbourne-2026-04-26
END:VEVENT
END:VCALENDAR
