BEGIN:VCALENDAR
VERSION:2.0
PRODID:-//SportPlan//Event Calendar//EN
CALSCALE:GREGORIAN
BEGIN:VEVENT
UID:1d5f5172-acec-493a-a938-3db1b9ce5442@sportplan.local
DTSTAMP:20260424T231019Z
DTSTART;VALUE=DATE:20260501
DTEND;VALUE=DATE:20260502
SUMMARY:QUARTA CRONOSALITA A LIGARI
DESCRIPTION:FCI detail page 181162 lists an Amatoriale competitive cronometro/climb from Castione Andevenno to Ligari. Supabase title search for 'LIGARI' returned no Italy matches.
LOCATION:Albosaggia / Ligari (SO)
URL:https://sportplan.vercel.app/no/events/quarta-cronosalita-a-ligari-albosaggia-2026-05-01
END:VEVENT
END:VCALENDAR
