BEGIN:VCALENDAR
VERSION:2.0
PRODID:-//SportPlan//Event Calendar//EN
CALSCALE:GREGORIAN
BEGIN:VEVENT
UID:502040d6-8e39-4bd2-b856-6bf595070b3c@sportplan.local
DTSTAMP:20260425T023307Z
DTSTART;VALUE=DATE:20261017
DTEND;VALUE=DATE:20261018
SUMMARY:PINK PARK RUN 2026
DESCRIPTION:Official Thai.Run registration page for PINK PARK RUN 2026 in Bangkok.
LOCATION:Bangkok\, Bangkok
URL:https://sportplan.vercel.app/no/events/pink-park-run-2026-bangkok-2026-10-17
END:VEVENT
END:VCALENDAR
