BEGIN:VCALENDAR
VERSION:2.0
PRODID:-//SportPlan//Event Calendar//EN
CALSCALE:GREGORIAN
BEGIN:VEVENT
UID:af2fec8a-b87c-4dd4-8472-1a5347b1724d@sportplan.local
DTSTAMP:20260424T202604Z
DTSTART;VALUE=DATE:20260308
DTEND;VALUE=DATE:20260309
SUMMARY:Pedalmania Ladies ITT
DESCRIPTION:The official Kenya Cycling Race Series event page lists Pedalmania Ladies ITT for 8 March 2026 at Kimuka Trading Center\, Kenya as an amateur-enterable time trial.
LOCATION:Kimuka Trading Center
URL:https://sportplan.vercel.app/no/events/pedalmania-ladies-itt-kimuka-trading-center-2026-03-08
END:VEVENT
END:VCALENDAR
