BEGIN:VCALENDAR
VERSION:2.0
PRODID:-//SportPlan//Event Calendar//EN
CALSCALE:GREGORIAN
BEGIN:VEVENT
UID:0cd4f1ed-c50b-4bc4-8d91-f8ee2d39bdd5@sportplan.local
DTSTAMP:20260425T004008Z
DTSTART;VALUE=DATE:20260726
DTEND;VALUE=DATE:20260727
SUMMARY:Orava Trail
DESCRIPTION:Orava Trail is listed on the official Tatra Skymarathon festival site. The organizer describes the July event as a mountain-running festival built around the Podhale and Orava regions and names Orava Trail among its races.
LOCATION:Kościelisko
URL:https://sportplan.vercel.app/no/events/orava-trail-koscielisko-2026-07-26
END:VEVENT
END:VCALENDAR
