BEGIN:VCALENDAR
VERSION:2.0
PRODID:-//SportPlan//Event Calendar//EN
CALSCALE:GREGORIAN
BEGIN:VEVENT
UID:887e04a6-cab8-4728-832d-ff33bffa6232@sportplan.local
DTSTAMP:20260424T231155Z
DTSTART;VALUE=DATE:20260502
DTEND;VALUE=DATE:20260503
SUMMARY:OKZK Nakts rogainings
DESCRIPTION:Official Latvian Orienteering Federation (LOF) calendar/info page lists OKZK Nakts rogainings on 2 May 2026 in Blāzma\, Ventspils novads as a rogaining event with 6H and 12H formats\, using SPORTident and linked from the federation's Latvian Cup calendar.
LOCATION:Blāzma\, Ventspils novads
URL:https://sportplan.vercel.app/no/events/okzk-nakts-rogainings-blazma-ventspils-novads-2026-05-02
END:VEVENT
END:VCALENDAR
