BEGIN:VCALENDAR
VERSION:2.0
PRODID:-//SportPlan//Event Calendar//EN
CALSCALE:GREGORIAN
BEGIN:VEVENT
UID:90715bb6-1fcf-4368-a7e1-d3d3da928559@sportplan.local
DTSTAMP:20260424T231130Z
DTSTART;VALUE=DATE:20260912
DTEND;VALUE=DATE:20260913
SUMMARY:NZ Road Mile Championships 2026
DESCRIPTION:NZ Road Mile Championships 2026 is the official New Zealand road mile championship event on 12 September 2026 in Dunedin. Athletics New Zealand says the championship will light up George Street in central Dunedin the day before the Dunedin Marathon\, creating an amateur-enterable national-title road mile weekend.
LOCATION:Dunedin
URL:https://sportplan.vercel.app/no/events/nz-road-mile-championships-2026-dunedin-2026-09-12
END:VEVENT
END:VCALENDAR
