BEGIN:VCALENDAR
VERSION:2.0
PRODID:-//SportPlan//Event Calendar//EN
CALSCALE:GREGORIAN
BEGIN:VEVENT
UID:d4f2df40-6438-4c52-a598-0be7f4c47ad8@sportplan.local
DTSTAMP:20260424T231145Z
DTSTART;VALUE=DATE:20260517
DTEND;VALUE=DATE:20260518
SUMMARY:Newman Triathlon 2026
DESCRIPTION:AusTriathlon lists Newman Triathlon 2026 with sprint\, enticer and kids triathlon categories at the Newman Aquatic Centre. The page links to the Shire of East Pilbara's official annual-event page.
LOCATION:Newman Aquatic Centre\, Newman
URL:https://sportplan.vercel.app/no/events/newman-triathlon-2026-newman-aquatic-centre-newman-2026-05-17
END:VEVENT
END:VCALENDAR
