BEGIN:VCALENDAR
VERSION:2.0
PRODID:-//SportPlan//Event Calendar//EN
CALSCALE:GREGORIAN
BEGIN:VEVENT
UID:361fb167-17bd-49e5-9d75-043c9c552352@sportplan.local
DTSTAMP:20260424T230824Z
DTSTART;VALUE=DATE:20260829
DTEND;VALUE=DATE:20260830
SUMMARY:Mount Maunganui Half Marathon
DESCRIPTION:Mount Maunganui Half Marathon is the official Bay of Plenty running festival on 29 August 2026\, with 21 km\, 10 km\, and 5 km options and a weekend event program built around the Mount Maunganui waterfront and surrounding visitor destination.
LOCATION:Tauranga
URL:https://sportplan.vercel.app/no/events/mount-maunganui-half-marathon-tauranga-2026-08-29
END:VEVENT
END:VCALENDAR
