BEGIN:VCALENDAR
VERSION:2.0
PRODID:-//SportPlan//Event Calendar//EN
CALSCALE:GREGORIAN
BEGIN:VEVENT
UID:9b132073-ca7a-4263-aaaf-8d3c8e3f2277@sportplan.local
DTSTAMP:20260424T230912Z
DTSTART;VALUE=DATE:20260729
DTEND;VALUE=DATE:20260730
SUMMARY:Moon Race
DESCRIPTION:Moon Race se celebrará el 29 de julio de 2026 en Torremocha del Jarama\, Madrid\, Madrid. Es una buena opción para quienes buscan un reto bien organizado y una jornada deportiva en un entorno especial. La distancia anunciada es de 10.1 km\, ideal para planificar ritmo\, entrenamiento y logística con antelación.
LOCATION:Torremocha del Jarama\, Madrid\, Madrid
URL:https://sportplan.vercel.app/no/events/moon-race-torremocha-del-jarama-2026-07-29-10-1k
END:VEVENT
END:VCALENDAR
