BEGIN:VCALENDAR
VERSION:2.0
PRODID:-//SportPlan//Event Calendar//EN
CALSCALE:GREGORIAN
BEGIN:VEVENT
UID:e8411937-f4a5-4d81-83d4-ee502a636912@sportplan.local
DTSTAMP:20260424T201250Z
DTSTART;VALUE=DATE:20260301
DTEND;VALUE=DATE:20260302
SUMMARY:Mitja Marató de Cambrils
DESCRIPTION:Mitja Marató de Cambrils is presented on the official Mitja de Cambrils Costa Daurada site as the 21 km race held on 1 March 2026 in Cambrils\, part of a fast and flat Costa Daurada race day shared with the 10K.
LOCATION:Cambrils\, Tarragona\, Cataluña
URL:https://sportplan.vercel.app/no/events/mitja-marato-de-cambrils-cambrils-2026-03-01-21k
END:VEVENT
END:VCALENDAR
