BEGIN:VCALENDAR
VERSION:2.0
PRODID:-//SportPlan//Event Calendar//EN
CALSCALE:GREGORIAN
BEGIN:VEVENT
UID:0609a01c-5cad-489f-81ce-01b661af8c96@sportplan.local
DTSTAMP:20260424T202339Z
DTSTART;VALUE=DATE:20260208
DTEND;VALUE=DATE:20260209
SUMMARY:Medio Maratón de Granollers 2026
DESCRIPTION:The previously stored mitjagranollers.com URL is currently DNS-unresolved from runtime checks\, so the official website and registration links were cleared pending fresh organizer-site validation.
LOCATION:Granollers\, Barcelona
URL:https://sportplan.vercel.app/no/events/medio-marat-n-de-granollers-2026-granollers-2026-02-08
END:VEVENT
END:VCALENDAR
