BEGIN:VCALENDAR
VERSION:2.0
PRODID:-//SportPlan//Event Calendar//EN
CALSCALE:GREGORIAN
BEGIN:VEVENT
UID:96bf95b8-07bf-430f-b96e-a4ad5d16b062@sportplan.local
DTSTAMP:20260424T213744Z
DTSTART;VALUE=DATE:20260222
DTEND;VALUE=DATE:20260223
SUMMARY:Media Maratón Internacional de Alicante 2026
DESCRIPTION:Media Maratón Internacional de Alicante 2026 is organized by Club Atlético Montemar and the Alicante City Sports Council. The official event site describes a certified urban course through Alicante with the half marathon and 10K held together as an amateur road-running event weekend.
LOCATION:Alicante\, Alicante
URL:https://sportplan.vercel.app/no/events/media-marat-n-internacional-de-alicante-2026-alicante-2026-02-22
END:VEVENT
END:VCALENDAR
