BEGIN:VCALENDAR
VERSION:2.0
PRODID:-//SportPlan//Event Calendar//EN
CALSCALE:GREGORIAN
BEGIN:VEVENT
UID:166014fe-5e95-4cf7-916a-b0e2c021751f@sportplan.local
DTSTAMP:20260424T201708Z
DTSTART;VALUE=DATE:20260405
DTEND;VALUE=DATE:20260406
SUMMARY:Media Maratón de Madrid 2026
DESCRIPTION:Media Maratón de Madrid 2026 se celebrará en Madrid Centro en April 2026\, sobre una distancia de 21.1 km. Es una cita ideal para disfrutar del ambiente del evento\, marcar ritmo y sumar una experiencia competitiva o popular en el calendario de running.
LOCATION:Madrid Centro
URL:https://sportplan.vercel.app/no/events/media-marat-n-de-madrid-2026-madrid-20260405
END:VEVENT
END:VCALENDAR
