BEGIN:VCALENDAR
VERSION:2.0
PRODID:-//SportPlan//Event Calendar//EN
CALSCALE:GREGORIAN
BEGIN:VEVENT
UID:e51d339e-1a5e-4987-9e9a-1cd2f60d259f@sportplan.local
DTSTAMP:20260424T201733Z
DTSTART;VALUE=DATE:20260125
DTEND;VALUE=DATE:20260126
SUMMARY:Media Maratón Ciudad de Getafe 2026
DESCRIPTION:Media Maratón Ciudad de Getafe 2026 uses mediadegetafe.com as the official participant-facing website for the 2026 half marathon in Getafe\, Spain. The official event site is the canonical source for race information\, participant services\, and registration updates.
LOCATION:Getafe\, Madrid
URL:https://sportplan.vercel.app/no/events/media-marat-n-ciudad-de-getafe-2026-getafe-2026-01-25
END:VEVENT
END:VCALENDAR
