BEGIN:VCALENDAR
VERSION:2.0
PRODID:-//SportPlan//Event Calendar//EN
CALSCALE:GREGORIAN
BEGIN:VEVENT
UID:07d462cf-44cb-4d01-a353-ca8ba9cbe99e@sportplan.local
DTSTAMP:20260424T230956Z
DTSTART;VALUE=DATE:20260523
DTEND;VALUE=DATE:20260525
SUMMARY:Mazā balva
DESCRIPTION:Official Latvian Orienteering Federation calendar lists Mazā balva for 23-24 May 2026 at Cērtenes pilskalns\, Smiltene and links the OK Azimuts organizer site plus LOF registration page.
LOCATION:Cērtenes pilskalns\, Smiltene
URL:https://sportplan.vercel.app/no/events/maza-balva-certenes-pilskalns-smiltene-2026-05-23
END:VEVENT
END:VCALENDAR
