BEGIN:VCALENDAR
VERSION:2.0
PRODID:-//SportPlan//Event Calendar//EN
CALSCALE:GREGORIAN
BEGIN:VEVENT
UID:394d49f6-c78a-4d96-838c-a3961a3cbcf7@sportplan.local
DTSTAMP:20260424T230219Z
DTSTART;VALUE=DATE:20260830
DTEND;VALUE=DATE:20260831
SUMMARY:Maratona Internacional de Floripa
DESCRIPTION:Official Maratona Internacional de Floripa Fibra 2026 site states the event weekend runs 27–29 August expo\, 29 August half marathon plus kids races\, and 30 August marathon plus 5K in Florianópolis. Kept this row as the canonical marathon edition on 30 August 2026 and replaced the weak aggregator URL with the official event site.
LOCATION:Florianópolis\, Brazil
URL:https://sportplan.vercel.app/no/events/maratona-internacional-de-floripa-2026-08-30
END:VEVENT
END:VCALENDAR
